BEGIN:VCALENDAR
VERSION:2.0
PRODID:-//Peasley Cross United Reformed Church - ECPv6.15.17//NONSGML v1.0//EN
CALSCALE:GREGORIAN
METHOD:PUBLISH
X-WR-CALNAME:Peasley Cross United Reformed Church
X-ORIGINAL-URL:https://peasleycrossurc.org.uk
X-WR-CALDESC:Events for Peasley Cross United Reformed Church
REFRESH-INTERVAL;VALUE=DURATION:PT1H
X-Robots-Tag:noindex
X-PUBLISHED-TTL:PT1H
BEGIN:VTIMEZONE
TZID:Europe/London
BEGIN:DAYLIGHT
TZOFFSETFROM:+0000
TZOFFSETTO:+0100
TZNAME:BST
DTSTART:20220327T010000
END:DAYLIGHT
BEGIN:STANDARD
TZOFFSETFROM:+0100
TZOFFSETTO:+0000
TZNAME:GMT
DTSTART:20221030T010000
END:STANDARD
BEGIN:DAYLIGHT
TZOFFSETFROM:+0000
TZOFFSETTO:+0100
TZNAME:BST
DTSTART:20230326T010000
END:DAYLIGHT
BEGIN:STANDARD
TZOFFSETFROM:+0100
TZOFFSETTO:+0000
TZNAME:GMT
DTSTART:20231029T010000
END:STANDARD
BEGIN:DAYLIGHT
TZOFFSETFROM:+0000
TZOFFSETTO:+0100
TZNAME:BST
DTSTART:20240331T010000
END:DAYLIGHT
BEGIN:STANDARD
TZOFFSETFROM:+0100
TZOFFSETTO:+0000
TZNAME:GMT
DTSTART:20241027T010000
END:STANDARD
BEGIN:DAYLIGHT
TZOFFSETFROM:+0000
TZOFFSETTO:+0100
TZNAME:BST
DTSTART:20250330T010000
END:DAYLIGHT
BEGIN:STANDARD
TZOFFSETFROM:+0100
TZOFFSETTO:+0000
TZNAME:GMT
DTSTART:20251026T010000
END:STANDARD
BEGIN:DAYLIGHT
TZOFFSETFROM:+0000
TZOFFSETTO:+0100
TZNAME:BST
DTSTART:20260329T010000
END:DAYLIGHT
BEGIN:STANDARD
TZOFFSETFROM:+0100
TZOFFSETTO:+0000
TZNAME:GMT
DTSTART:20261025T010000
END:STANDARD
END:VTIMEZONE
BEGIN:VEVENT
DTSTART;TZID=Europe/London:20230205T110000
DTEND;TZID=Europe/London:20230205T120000
DTSTAMP:20260425T122256
CREATED:20230203T111627Z
LAST-MODIFIED:20230203T111627Z
UID:5920-1675594800-1675598400@peasleycrossurc.org.uk
SUMMARY:Home Group Sunday
DESCRIPTION:A service led by our Home Group
URL:https://peasleycrossurc.org.uk/event/home-group-sunday/
END:VEVENT
BEGIN:VEVENT
DTSTART;TZID=Europe/London:20230212T110000
DTEND;TZID=Europe/London:20230212T120000
DTSTAMP:20260425T122256
CREATED:20230203T111808Z
LAST-MODIFIED:20230203T111808Z
UID:5923-1676199600-1676203200@peasleycrossurc.org.uk
SUMMARY:Sunday Worship with Communion
DESCRIPTION:A service led by Rev Allison which includes Communion
URL:https://peasleycrossurc.org.uk/event/sunday-worship-with-communion/
END:VEVENT
BEGIN:VEVENT
DTSTART;TZID=Europe/London:20230217T163000
DTEND;TZID=Europe/London:20230217T183000
DTSTAMP:20260425T122256
CREATED:20230203T112037Z
LAST-MODIFIED:20230203T112108Z
UID:5926-1676651400-1676658600@peasleycrossurc.org.uk
SUMMARY:Messy Church
DESCRIPTION:Things Jesus said: ‘Love your neighbour as yourself’
URL:https://peasleycrossurc.org.uk/event/messy-church/
END:VEVENT
BEGIN:VEVENT
DTSTART;TZID=Europe/London:20230219T110000
DTEND;TZID=Europe/London:20230219T120000
DTSTAMP:20260425T122256
CREATED:20230203T112520Z
LAST-MODIFIED:20230203T112520Z
UID:5934-1676804400-1676808000@peasleycrossurc.org.uk
SUMMARY:Sunday Worship
DESCRIPTION:A more informal time of worship led by Rev Allison
URL:https://peasleycrossurc.org.uk/event/sunday-worship/
END:VEVENT
BEGIN:VEVENT
DTSTART;TZID=Europe/London:20230222T160000
DTEND;TZID=Europe/London:20230222T170000
DTSTAMP:20260425T122256
CREATED:20230203T113546Z
LAST-MODIFIED:20230203T113645Z
UID:5937-1677081600-1677085200@peasleycrossurc.org.uk
SUMMARY:Ash Wednesday
DESCRIPTION:A time of refection – Ashing will be offered
URL:https://peasleycrossurc.org.uk/event/ash-wednesday/
END:VEVENT
BEGIN:VEVENT
DTSTART;TZID=Europe/London:20230226T110000
DTEND;TZID=Europe/London:20230226T120000
DTSTAMP:20260425T122256
CREATED:20230203T114648Z
LAST-MODIFIED:20230203T114648Z
UID:5940-1677409200-1677412800@peasleycrossurc.org.uk
SUMMARY:Sunday Worship
DESCRIPTION:Our worship this week will be led by Dennis Roughley
URL:https://peasleycrossurc.org.uk/event/sunday-worship-2/
END:VEVENT
BEGIN:VEVENT
DTSTART;TZID=Europe/London:20230305T110000
DTEND;TZID=Europe/London:20230305T110000
DTSTAMP:20260425T122256
CREATED:20230203T114819Z
LAST-MODIFIED:20230203T114819Z
UID:5943-1678014000-1678014000@peasleycrossurc.org.uk
SUMMARY:Sunday Worship
DESCRIPTION:Our worship will be led by Mary Foley
URL:https://peasleycrossurc.org.uk/event/sunday-worship-3/
END:VEVENT
BEGIN:VEVENT
DTSTART;TZID=Europe/London:20230312T110000
DTEND;TZID=Europe/London:20230312T120000
DTSTAMP:20260425T122256
CREATED:20230203T115208Z
LAST-MODIFIED:20230203T115208Z
UID:5949-1678618800-1678622400@peasleycrossurc.org.uk
SUMMARY:Sunday Worship
DESCRIPTION:A time of worship which includes Communion
URL:https://peasleycrossurc.org.uk/event/sunday-worship-4/
END:VEVENT
BEGIN:VEVENT
DTSTART;TZID=Europe/London:20251217T080000
DTEND;TZID=Europe/London:20251217T170000
DTSTAMP:20260425T122256
CREATED:20251217T201731Z
LAST-MODIFIED:20251217T201731Z
UID:6190-1765958400-1765990800@peasleycrossurc.org.uk
SUMMARY:Christmas Communion
DESCRIPTION:
URL:https://peasleycrossurc.org.uk/event/christmas-communion/
END:VEVENT
END:VCALENDAR